Workbook

Sheet Instructions
B8: Farm Income Tax Estimator Tool | L8: Last Updated 3-24-2026, version 36
D9: Authored by:
E10: Adam J. Kantrovich, Ph.D., Clemson University Cooperative Extension
E11: JC Hobbs, Oklahoma State University Cooperative Extension
E12: Mark Dikeman, Kansas State University
D14: This decision tool is to be used only to estimate your tax liability. We do not claim that the values derived from this tool are absolute. It is for informational and educational purposes and should not be considered tax or legal advice. The tool may require you to consult with your tax professional to determine the correct information to be entered into this Tax Estimation Tool.
D18: To approximate the tax liability that you will have, you should work with your tax professional to determine if there are any tax management strategies available, such as using Income Averaging, use of any Net Operating Loss(es) (NOLs) that you may be carrying forward, or through other income tax management tools.
D26: Limitation: This Tax Estimator Tool does not take into consideration any Federal and or State tax exemptions, exclusions, deductions, or credits that you may be eligible for through your individual tax return i.e. 1040 (or similar) and all appropriate schedules, forms, etc.
D32: Any cell shaded in gray will allow or require user input. All of the other cells will automatically compute a value. Some of the cells require the use of a pull down menu where a small down arrow will appear, while other cells will require direct input of a number. Do not include a "dollar sign" as this will automatically appear; just type the dollar value and do not include a dollar sign "$" or any commas ",". There are several locations where you may enter information which is signified by a gray shaded cell(s).
B40: 1. | D40: "Filing Type". When you click on the gray shaded cell to the right of the "Filing Type" you will notice an arrow to the right of the cell. Click on the arrow and 4 options will appear. These options are a description of how you file your taxes, you can choose from the drop-down list either Single/Individual, Married Filing Jointly, Head of Household, or Married Filing Seperately.
B44: 2. | D44: "State Income Tax Rate to Use". This cell allows for the user to enter a State Income Tax Rate. Since this decision tool will be used with many across the country and is only to estimate your tax liability, you are to input your states approximate income tax rate. If your state has a sliding scale, it is recommended that you err on the high side and enter the highest tax rate if you are not exactly sure what to enter here.
B47: 2. | D47: "All Estimated Farm Income". You should include all taxable income derived from the farm and farming activities. This is the income that is taxable, but should not include any long term capital gains such as the sale of raised breeding livestock (dairy, beef, etc.). You should take all of the revenue that would be found on IRS Form 1040 Schedule F Lines 1 through 8. This is all income that is likely to be subject to self-employment (SE) Tax. DO NOT include any government program payments that may be considered cancellation of debt/debt relief or payments directly applied to debt/loan payments. These will be included on a different row.
B53: 3. | D53: "Estimated Off Farm Income". You should include taxable income derived from all other sources including, but not limited to, off farm jobs (you and/or spouse), cash rental income, etc. If you include income where Social Security, Medicare, etc. taxes have already been withheld and paid, this estimator will overestimate the taxes still owed. ALSO note, this does not take into consideration any other deductions, credits, or itemizations that you may have. If you know the dollar value of your deductions, credits, and or itemizations, you may subtract that from the Off Farm income value being used in the Estimator.
B58: 4. | D58: "Estimated Farm Expenses (excluding wages and depreciation)". This should include all farm expenses with the exception of wages (W-2) paid to labor and tax depreciation. Please refer to IRS Form 1040F Lines 10 through 13, Lines 15 through 21b, and Lines 23 through 32f.
B62: 5. | D62: "Total Estimated 4797 Items: Short Term Capital Gains Income and Depreciation Recapture Value". You should include any depreciation recapture from the sale of a depreciated asset, such as equipment, building, or improvement, or from the trade-in of a piece of equipment or machinery. Any capital assets that have been sold and not held on to long enough (less than 1 year for most depreciable farm assets) that may be taxed at the short-term capital gain rate should also be included.
B67: 6. | D67: "USDA Assistance for Distressed Farmer/Borrower Program Payment (including Cancellation of Debt)". This should include the entire amount that has been paid to cancel all debt. This should include the principal, interest, and any penalties that have been paid as part of the program payment/debt cancellation. An IRS Form 1099C or 1099G (dependent on timing and choices that have been made) should be received that should contain the necessary information. It may be necessary to also review additional letters or loan/debt account statements.
D73: "Long Term Capital Gains"
D74: Long-Term Capital Gains include the sale(s) of raised breeding livestock (such as cull cows), working animals such as draft horses and thoroughbreds, the sale of Timber (owned more than one year), and any gains on equipment that is sold for a higher price than that at which it was purchased, sales of other investments that have been held for the minimum required time.
B79: For further information, comments, etc., please contact Dr. Adam Kantrovich at | J79: akantro@clemson.edu
C81: This material is based upon work supported by the U.S. Department of Agricultural, under agreement number FSA21CPT0012032. Any opinions, findings, conclusions, or recommendations expressed in the publication are those of the author(s) and do not necessarily reflect the views of the U.S. Department of Agriculture. In addition, any reference to specific brands or types of products or services does not constitute or imply an endorsement by the U.S. Department of Agriculture for those products or services. USDA is an equal opportunity provider, employer, and lender. This information is intended for educational purposes only. You are encouraged to seek the advice of your tax or legal advisor, or other authoritative sources, regarding the application of these general tax principles to your individual circumstances. Pursuant to Treasury Department (IRS) Circular 230 Regulations, any federal tax advice contained here is not intended or written to be used, and may not be used, for the purpose of avoiding tax-related penalties or promoting, marketing or recommending to another party any tax-related matters addressed herein. USDA is an equal opportunity provider, employer, and lender. Rural Tax Education is part of the National Farm Income Tax Extension Committee. The land-grant universities involved in Rural Tax Education are affirmative action/equal opportunity institutions.

Sheet Tax Estimator
D2: BASE | F2: OPTION
B3: Filing Type: | D3: Married Filing Jointly | F3: Married Filing Jointly
B5: State that taxes are Filed (Percentage will be used for Long Term Gains Rate) | D5: Kansas | F5: Kansas
B6: State Income Tax Rate to use: | D6: 0 | F6: 0
B7: State Long-Term Capital Gains Rate | D7: 0 | F7: 0
B8: If you would rather type in your own rate to use please Choose "Your Own" from the State Pick List | D8: 0 | F8: 0
B10: Taxable W-2 wages (Farmer) | E10: =C10 -> 0
B11: Taxable W-2 wages (Spouse) | C11: 0 | D11: =C10+C11 -> 0 | E11: =C11 -> 0 | F11: =E10+E11 -> 0
B12: Is the Farmer 65 Years of Age or Older? | C12: Yes | D12: =IF(C12="Yes",6000,0) -> 6000 | E12: =C12 -> Yes | F12: =IF(E12="Yes",6000,0) -> 6000
B13: =IF(D3="Married Filing Jointly", "Is the Spouse 65 Years of Age or Older?"," ") -> Is the Spouse 65 Years of Age or Older? | C13: Yes | D13: =IF(AND(B13="Is the Spouse 65 Years of Age or Older?",C13="Yes"),6000,0) -> 6000 | E13: =IF(AND(F3="Married Filing Jointly",C13="Yes"),"Yes","No") -> Yes | F13: =IF(E13="Yes",6000,0) -> 6000
B14: Estimated Farm Gross Income (BUT do NOT include cancellation of debt income) | C14: =51334+103897+248994+29400 -> 433625
B15: USDA Assistance for Distressed Farmer/Borrower Program Payment (including Cancellation of Debt): | C15: 0 | E15: =C15 -> 0 | I15: Beg Cash Accounts (Checking, Savings, ETC) | J15: =73140 -> 73140
B16: Estimated Farm Expenses (excluding wages and depreciation) | C16: =40000+2524+149 -> 42673 | E16: =C16 -> 42673
B17: Estimated QBI Qualified Farm Wages | C17: 0 | E17: =C17 -> 0
B18: Estimated Tax Depreciation | C18: 0 | E18: =C18 -> 0 | I18: Balance Sheet Net Worth (w/o deferred Tax) | J18: 5554886
B19: Estimated Net Farm Income | D19: =(C14+C15)-(C16+C17+C18) -> 390952 | F19: =E14+E15-E16-E17-E18 -> -42673
J20: Base | K20: Option
B21: Estimated Income (revenue minus expenses) Not Subject to Self-Employment Tax. | D21: 0 | F21: =D21 -> 0
B22: Estimated Off Farm Income that may be subject to Self-Employment tax (i.e. Schedule C) (Farmer) | C22: 0 | E22: =C22 -> 0 | I22: CASH FLOW
B23: Estimated Off Farm Income that may be subject to Self-Employment tax (i.e. Schedule C) (Spouse) | C23: 0 | D23: =C22+C23 -> 0 | E23: =C23 -> 0 | F23: =E22+E23 -> 0 | I23: AGI | J23: =D35 -> 5997408 | K23: =F35 -> 1541786
B24: Total Estimated Short Term Capital Gains Income and Depreciation Recapture value | D24: =853020+731439 -> 1584459 | F24: =D24 -> 1584459 | I24: Taxable Income | J24: =D42 -> 5953908 | K24: =F42 -> 1498286
B25: Long-Term Capital Gain/(Loss) Income from Farm | C25: =1510400+(2892000-364250) -> 4038150 | D25: =IF(ISNUMBER(C25),MAX(C25,-'Pull Down'!B38),0) -> 4038150 | F25: =IF(ISNUMBER(E25),MAX(E25,-'Pull Down'!B38),0) -> 0
B26: Total Estimated Income subject to taxes before carry over Net Operating Losses (NOL's) | D26: =D11+D19+D21+D23+D24+D25 -> 6013561 | F26: =F11+F19+F21+F23+F24+F25 -> 1541786 | I26: Ordinary Income + ST Gain Tax Liability | J26: =D49 -> 632893 | K26: =F49 -> 478428
B27: Enter Carry Over NOL's that the Farm may still have | C27: 0 | E27: =C27 -> 0 | I27: Long Term Capital Gain | J27: =D51 -> 807630 | K27: =F51 -> 0
B28: NOL to be allowed to offset income (assumes all NOLs from 2018 or later) | D28: =IF(C27>0,MIN(0.8*(D26-D30-D31-D32-D34-D36),C27),0) -> 0 | F28: =IF(E27>0,MIN(0.8*(F26-F30-F31-F32-F34-F36),E27),0) -> 0 | I28: EST SE + Addl Medicare | J28: =D55+D57 -> 33305 | K28: =F55+F57 -> 0
B29: Estimated Total Income | D29: =D26-D28 -> 6013561 | F29: =F26-F28 -> 1541786 | I29: Total tax Liability | J29: =D58 -> 1473828 | K29: =F58 -> 478428
B30: Deduction for Self-Employment Tax | D30: =ROUND((C53+C54)/2,0) -> 16153 | F30: =ROUND((E53+E54)/2,0) -> 0
B31: SEP, SIMPLE, Qualified Plan Deduction | C31: 0 | D31: =IF(OR(C31=0,C31=""),0,IF(C31>5,MIN(C31,MIN(SEP!D26,SEP!E26,SEP!F26,SEP!G26,SEP!H26)),CHOOSE(C31,SEP!D26,SEP!E26,SEP!F26,SEP!G26,SEP!H26))) -> 0 | F31: =IF(OR(C31=0,C31=""),0,IF(C31>5,MIN(C31,MIN(SEP!J26,SEP!K26,SEP!L26,SEP!M26,SEP!N26)),CHOOSE(C31,SEP!J26,SEP!K26,SEP!L26,SEP!M26,SEP!N26))) -> 0 | I31: Remaining Cash after Taxes | J31: =J23-J29 -> 4523580 | K31: =K23-K29 -> 1063358
B32: IRA Deduction | D32: 0 | F32: =D32 -> 0 | I32: Debt Payoff | J32: =248065+299658+453297 -> 1001020 | K32: =J32 -> 1001020
B33: Self-Employed Health Insurance Expense | I33: Remaining Cash after Taxes and Debt | J33: =J31-J32+$J$15 -> 3595700 | K33: =K31-K32+$J$15 -> 135478
B34: Self-Employed Health Insurance Deduction | D34: ='SE HI'!D5 -> 0 | F34: ='SE HI'!G5 -> 0
B35: Estimated Adjusted Gross Income | D35: =D29-D30-D31-D32-D34 -> 5997408 | F35: =F29-F30-F31-F32-F34 -> 1541786
B36: Standard Deduction based on Filing Status/Type | D36: =IF(D3='Pull Down'!$A$2,'Pull Down'!$B$2,IF(D3='Pull Down'!$A$3,'Pull Down'!$B$3,IF(D3='Pull Down'!$A$4,'Pull Down'!$B$4,'Pull Down'!$B$5))) -> 31500 | F36: =IF(F3='Pull Down'!$A$2,'Pull Down'!$B$2,IF(F3='Pull Down'!$A$3,'Pull Down'!$B$3,IF(F3='Pull Down'!$A$4,'Pull Down'!$B$4,'Pull Down'!$B$5))) -> 31500 | I36: Difference between Balance Sheet NW and remaining Cash
B37: Itemization above Standard Deduction | D37: 0 | F37: =D37 -> 0 | J37: =J18-J33 -> 1959186 | K37: =K18-K33 -> -135478
B38: §199A Passthrough from Coop | C38: 0 | E38: =C38 -> 0 | I38: % of Networth | J38: =J33/J18 -> 0.64730401 | K38: =K33/K18 -> #DIV/0!
B39: Coop Per Unit Retain Allocations | C39: 0 | E39: =C39 -> 0
B40: Unadjusted Basis Immediately After Acquisition (UBIA) | C40: 0 | E40: =C40 -> 0
B41: §199A Deduction* | D41: =ROUND('8995A'!C50,0) -> 0 | F41: =ROUND('8995A'!I50,0) -> 0
B42: Estimated Taxable Income/(Loss) | D42: =D35-D36-D37-D41-D12-D13 -> 5953908 | F42: =F35-F36-F37-F41-F12-F13 -> 1498286
B43: Estimated Income/(Loss) Subject to Ordinary Income Tax Rates
...

Sheet Option
B1: Filing Status | C1: Std Deduct
B2: Single/Individual | C2: 15750 | F2: 2025 | P2: Single | Q2: 199a Inc | R2: 199a Phase Out
B3: Married Filing Jointly | C3: 31500 | G3: Single/Individual | I3: Married Filing Jointly | K3: Heads of Households | M3: Married Filing Separately | P3: MFJ | Q3: 394600 | R3: 100000
B4: Head of Household | C4: 23625 | G4: Above | H4: Top | I4: Above | J4: Top | K4: Above | L4: Top | M4: Above | N4: Top | P4: HoH | Q4: 197300 | R4: 50000
B5: Married Filing Separately | C5: =C3/2 -> 15750 | F5: 0.1 | G5: 0 | H5: 11925 | I5: 0 | J5: 23850 | L5: 16550 | M5: =0.5*I5 -> 0 | N5: =0.5*J5 -> 11925 | P5: MFS | Q5: 197300 | R5: 50000
F6: 0.12 | G6: =H5+0.01 -> 11925.01 | H6: 48475 | I6: =J5+0.01 -> 23850.01 | J6: 96950 | K6: =L5+0.01 -> 16550.01 | L6: 63100 | M6: =0.5*I6 -> 11925.005 | N6: =0.5*J6 -> 48475 | P6: Single | Q6: 197300 | R6: 50000
B7: SE Tax | D7: up to | F7: 0.22 | G7: =H6+0.01 -> 48475.01 | H7: 103350 | I7: =J6+0.01 -> 96950.01 | J7: 206700 | K7: =L6+0.01 -> 63100.01 | L7: 100500 | M7: =0.5*I7 -> 48475.005 | N7: =0.5*J7 -> 103350
B8: Social Security | C8: 0.124 | D8: 176100 | F8: 0.24 | G8: =H7+0.01 -> 103350.01 | H8: 197300 | I8: =J7+0.01 -> 206700.01 | J8: 394600 | K8: =L7+0.01 -> 100500.01 | L8: 191150 | M8: =0.5*I8 -> 103350.01 | N8: =0.5*J8 -> 197300
B9: Medicare | C9: 0.029 | F9: 0.32 | G9: =H8+0.01 -> 197300.01 | H9: 250525 | I9: =J8+0.01 -> 394600.01 | J9: 501050 | K9: =L8+0.01 -> 191150.01 | L9: 243700 | M9: =0.5*I9 -> 197300.01 | N9: =0.5*J9 -> 250525
B10: Min Soc Sec | D10: 7493 | F10: 0.35 | G10: =H9+0.01 -> 250525.01 | H10: 626350 | I10: =J9+0.01 -> 501050.01 | J10: 751600 | K10: =L9+0.01 -> 243700.01 | L10: 609350 | M10: =0.5*I10 -> 250525.01 | N10: =0.5*J10 -> 375800
F11: 0.37 | G11: =H10+0.01 -> 626350.01 | H11: And Up | I11: =J10+0.01 -> 751600.01 | J11: And Up | K11: =L10+0.01 -> 609350.01 | L11: And Up | M11: =0.5*I11 -> 375800.01 | N11: And Up
B12: Additional Medicare Tax Threshold (Pays Above)
B13: Single/Individual | C13: 200000 | D13: 0.009 | F13: 2025 Long Term Capital Gains Rates
B14: Married Filing Jointly | C14: 250000 | D14: 0.009 | G14: Single/Individual | I14: Married Filing Jointly | K14: Head of Household | M14: Married Filing Separately
B15: Head of Household | C15: 200000 | D15: 0.009 | G15: Above | H15: Top | I15: Above | J15: Top | K15: Above | L15: Top | M15: Above | N15: Top
B16: Married Filing Separately | C16: 125000 | D16: 0.009 | F16: 0 | G16: 0 | H16: 48350 | I16: 0 | J16: 96700 | K16: 0 | L16: 64750 | M16: =0.5*I16 -> 0 | N16: =0.5*J16 -> 48350
F17: 0.15 | G17: =H16+0.01 -> 48350.01 | H17: 533400 | I17: =J16+0.01 -> 96700.01 | J17: 600050 | K17: =L16+0.01 -> 64750.01 | L17: 566700 | M17: =0.5*I17 -> 48350.005 | N17: =0.5*J17 -> 300025
B18: Social Security paid on first | C18: 168600 | F18: 0.2 | G18: =H17+0.01 -> 533400.01 | H18: And Up | I18: =J17+0.01 -> 600050.01 | J18: And Up | K18: =L17+0.01 -> 566700.01 | L18: And Up | M18: =0.5*I18 -> 300025.01 | N18: And Up
F20: Total Taxable Income | H20: Single/Individual | I20: Married Filing Jointly | J20: Head of Household | K20: Married Filing Seperately | M20: Difference
F21: ='Tax Estimator'!F47 -> 1510286 | G21: 0 | H21: =IF($F$21<G17,$F$23*$F$16,0) -> 0 | I21: =IF($F$21<H17,$F$23*$F$16,0) -> 0 | J21: =IF($F$21<I17,$F$23*$F$16,0) -> 0 | K21: =IF($F$21<J17,$F$23*$F$16,0) -> 0 | N21: =IF($F$21<G17,$F$23*$F$16,0) -> 0
F22: LTCG Subject to Tax | G22: 0.15 | H22: =IF($F$21<H17,$F$23*$F$17,IF(F21>H17,0)) -> 0 | I22: =IF($F$21<I17,$F$23*$F$17,IF(G21>I17,0)) -> FALSE | J22: =IF($F$21<J17,$F$23*$F$17,IF(H21>J17,0)) -> FALSE | K22: =IF($F$21<K17,$F$23*$F$17,IF(I21>K17,0)) -> FALSE | N22: =IF($F$21+$F$23<$H$17,IF($F$21+$F$23>$G$17,$F$23*$F$17,0)) -> FALSE
F23: =IF('Tax Estimator'!F47<1,'Tax Estimator'!E25-'Tax Estimator'!F36, 'Tax Estimator'!E25) -> 0 | G23: 0.2 | H23: =IF($F$21>G18,$F$23*$F$18,0) -> 0 | I23: =IF($F$21>H18,$F$23*$F$18,0) -> 0 | J23: =IF($F$21>I18,$F$23*$F$18,0) -> 0 | K23: =IF($F$21>J18,$F$23*$F$18,0) -> 0 | N23: =IF($F$21+$F$23<=$G$18,0,($F$23*$F$18)) -> 0
B24: Medicare above threshold | G24: Sum
B25: =B13 -> Single/Individual | C25: =IF('Tax Estimator'!$D$47>='Pull Down'!B17,(('Tax Estimator'!$D$47-'Pull Down'!B17)*'Pull Down'!C17),0) -> 15549.822 | H25: Single | I25: MFJ | J25: HOH | K25: MFS
B26: =B14 -> Married Filing Jointly | C26: =IF('Tax Estimator'!$D$47>='Pull Down'!B18,(('Tax Estimator'!$D$47-'Pull Down'!B18)*'Pull Down'!C18),0) -> 15099.822 | G26: Taxable income | H26: ='Tax Estimator'!$F$47 -> 1510286 | I26: ='Tax Estimator'!$F$47 -> 1510286 | J26: ='Tax Estimator'!$F$47 -> 1510286 | K26: ='Tax Estimator'!$F$47 -> 1510286
B27: =B15 -> Head of Household | C27: =IF('Tax Estimator'!$D$47>='Pull Down'!B19,(('Tax Estimator'!$D$47-'Pull Down'!B19)*'Pull Down'!C19),0) -> 15549.822 | G27: 0.1 | H27: =IF($H$26>=H5,H5*$F$5,$H$26*$F$5) -> 1192.5 | I27: =IF($I$26>=J5,J5*$F$5,$I$26*$F$5) -> 2385 | J27: =IF($J$26>=L5,L5*$F$5,$J$26*$F$5) -> 1655 | K27: =I27/2 -> 1192.5
B28: =B16 -> Married Filing Separately | C28: =IF('Tax Estimator'!$D$47>='Pull Down'!B20,(C26/2),0) -> 7549.911 | G28: 0.12 | H28: =IF($H$26<G6,0,IF($H$26<=H6,($H$26-G6)*$F$6,IF($H$26>H6,(H6-G6)*$F$6))) -> 4385.9988 | I28: =IF($H$26<I6,0,IF($H$26<=J6,($H$26-I6)*$F6,IF($H$26>J6,(J6-I6)*$F6))) -> 8771.9988 | J28: =IF($H$26<K6,0,IF($H$26<=L6,($H$26-K6)*$F6,IF($H$26>L6,(L6-K6)*$F6))) -> 5585.9988 | K28: =I28/2 -> 4385.9994
G29: 0.22 | H29: =IF($H$26<G7,0,IF($H$26<=H7,($H$26-G7)*$F$7,IF($H$26>H7,(H7-G7)*$F$7))) -> 12072.498 | I29: =IF($H$26<I7,0,IF($H$26<=J7,($H$26-I7)*$F7,IF($H$26>J7,(J7-I7)*$F7))) -> 24144.998 | J29: =IF($H$26<K7,0,IF($H$26<=L7,($H$26-K7)*$F7,IF($H$26>L7,(L7-K7)*$F7))) -> 8227.9978 | K29: =I29/2 -> 12072.499
G30: 0.24 | H30: =IF($H$26<G8,0,IF($H$26<=H8,($H$26-G8)*$F$8,IF($H$26>H8,(H8-G8)*$F$8))) -> 22547.998 | I30: =IF($H$26<I8,0,IF($H$26<=J8,($H$26-I8)*$F8,IF($H$26>J8,(J8-I8)*$F8))) -> 45095.998 | J30: =IF($H$26<K8,0,IF($H$26<=L8,($H$26-K8)*$F8,IF($H$26>L8,(L8-K8)*$F8))) -> 21755.998 | K30: =I30/2 -> 22547.999
G31: 0.32 | H31: =IF($H$26<G9,0,IF($H$26<=H9,($H$26-G9)*$F$9,IF($H$26>H9,(H9-G9)*$F$9))) -> 17031.997 | I31: =IF($H$26<I9,0,IF($H$26<=J9,($H$26-I9)*$F9,IF($H$26>J9,(J9-I9)*$F9))) -> 34063.997 | J31: =IF($H$26<K9,0,IF($H$26<=L9,($H$26-K9)*$F9,IF($H$26>L9,(L9-K9)*$F9))) -> 16815.997 | K31: =I31/2 -> 17031.998
G32: 0.35 | H32: =IF($H$26<G10,0,IF($H$26<=H10,($H$26-G10)*$F$10,IF($H$26>H10,(H10-G10)*$F$10))) -> 131538.75 | I32: =IF($H$26<I10,0,IF($H$26<=J10,($H$26-I10)*$F10,IF($H$26>J10,(J10-I10)*$F10))) -> 87692.496 | J32: =IF($H$26<K10,0,IF($H$26<=L10,($H$26-K10)*$F10,IF($H$26>L10,(L10-K10)*$F10))) -> 127977.5 | K32: =I32/2 -> 43846.248
G33: 0.37 | H33: =IF($H$26<G11,0,IF($H$26<=H11,($H$26-G11)*$F$11,IF($H$26>H11,(H11-G11)*$F$11))) -> 327056.32 | I33: =IF($H$26>I11,($H$26-I11)*F11,0) -> 280713.82 | J33: =IF($H$26>K11,($H$26-K11)*$F11,0) -> 333346.32 | K33: =I33/2 -> 140356.91
G35: Total Taxes Owed | H35: =SUM(H27:H33) -> 515826.05 | I35: =SUM(I27:I33) -> 482868.3 | J35: =SUM(J27:J33) -> 515364.8 | K35: =SUM(K27:K33) -> 241434.15

Sheet Pull Down
A1: Filing Status | B1: Std Deduct | E1: 65 or Older | I1: =Option!F2 -> 2025
A2: Single/Individual | B2: =Option!C2 -> 15750 | E2: Yes | J2: Single/Individual | L2: Married Filing Jointly | N2: Heads of Households | P2: Married Filing Separately
A3: Married Filing Jointly | B3: =Option!C3 -> 31500 | E3: No | J3: Above | K3: Top | L3: Above | M3: Top | N3: Above | O3: Top | P3: Above | Q3: Top
A4: Head of Household | B4: =Option!C4 -> 23625 | I4: 0.1 | J4: 0 | K4: =Option!H5 -> 11925 | L4: 0 | M4: =Option!J5 -> 23850 | N4: 0 | O4: =Option!L5 -> 16550 | P4: =0.5*L4 -> 0 | Q4: =Option!N5 -> 11925
A5: Married Filing Separately | B5: =Option!C5 -> 15750 | I5: 0.12 | J5: =K4 -> 11925 | K5: =Option!H6 -> 48475 | L5: =M4 -> 23850 | M5: =Option!J6 -> 96950 | N5: =O4 -> 16550 | O5: =Option!L6 -> 63100 | P5: =Q4 -> 11925 | Q5: =Option!N6 -> 48475
I6: 0.22 | J6: =K5 -> 48475 | K6: =Option!H7 -> 103350 | L6: =M5 -> 96950 | M6: =Option!J7 -> 206700 | N6: =O5 -> 63100 | O6: =Option!L7 -> 100500 | P6: =Q5 -> 48475 | Q6: =Option!N7 -> 103350
A7: Self-Employment Tax | I7: 0.24 | J7: =K6 -> 103350 | K7: =Option!H8 -> 197300 | L7: =M6 -> 206700 | M7: =Option!J8 -> 394600 | N7: =O6 -> 100500 | O7: =Option!L8 -> 191150 | P7: =Q6 -> 103350 | Q7: =Option!N8 -> 197300
A8: Cap | B8: =Option!D8 -> 176100 | I8: 0.32 | J8: =K7 -> 197300 | K8: =Option!H9 -> 250525 | L8: =M7 -> 394600 | M8: =Option!J9 -> 501050 | N8: =O7 -> 191150 | O8: =Option!L9 -> 243700 | P8: =Q7 -> 197300 | Q8: =Option!N9 -> 250525
A9: Old-age, survivor, disability | B9: 0.124 | I9: 0.35 | J9: =K8 -> 250525 | K9: =Option!H10 -> 626350 | L9: =M8 -> 501050 | M9: =Option!J10 -> 751600 | N9: =O8 -> 243700 | O9: =Option!L10 -> 609350 | P9: =Q8 -> 250525 | Q9: =Option!N10 -> 375800
A10: Medicare | B10: 0.029 | I10: 0.37 | J10: =K9 -> 626350 | K10: And Up | L10: =M9 -> 751600 | M10: And Up | N10: =O9 -> 609350 | O10: And Up | P10: =Q9 -> 375800 | Q10: And Up
A11: % of SE income after discount | B11: 0.9235
A12: Min SE Income | B12: =Option!D10 -> 7493 | I12: =Option!F13 -> 2025 Long Term Capital Gains Rates
A13: SS Deduction % | B13: 0.5 | J13: Single/Individual | L13: Married Filing Jointly | N13: Head of Household | P13: Married Filing Separately
A14: Med Deduction % | B14: 0.5 | J14: Above | K14: Top | L14: Above | M14: Top | N14: Above | O14: Top | P14: Above | Q14: Top
I15: 0 | J15: 0 | K15: =Option!H16 -> 48350 | L15: 0 | M15: =Option!J16 -> 96700 | N15: 0 | O15: =Option!L16 -> 64750 | P15: =0.5*L15 -> 0 | Q15: =Option!N16 -> 48350
A16: Additional Medicare Tax Threshold (Pays Above) | I16: 0.15 | J16: =K15 -> 48350 | K16: =Option!H17 -> 533400 | L16: =M15 -> 96700 | M16: =Option!J17 -> 600050 | N16: =O15 -> 64750 | O16: =Option!L17 -> 566700 | P16: =Q15 -> 48350 | Q16: =Option!N17 -> 300025
A17: =A2 -> Single/Individual | B17: 200000 | C17: 0.009 | I17: 0.2 | J17: =K16 -> 533400 | K17: And Up | L17: =M16 -> 600050 | M17: And Up | N17: =O16 -> 566700 | O17: And Up | P17: =Q16 -> 300025 | Q17: And Up
A18: =A3 -> Married Filing Jointly | B18: 250000 | C18: 0.009
A19: =A4 -> Head of Household | B19: 200000 | C19: 0.009
A20: =A5 -> Married Filing Separately | B20: 125000 | C20: 0.009
A22: 199A Phaseout | B22: 199A Inc | C22: 199A Phaseout
A23: =A2 -> Single/Individual | B23: =Option!Q6 -> 197300 | C23: 50000
A24: =A3 -> Married Filing Jointly | B24: =Option!Q3 -> 394600 | C24: 100000
A25: =A4 -> Head of Household | B25: =B23 -> 197300 | C25: =C23 -> 50000
A26: =A5 -> Married Filing Separately | B26: =B23 -> 197300 | C26: =C23 -> 50000
A28: Retirement
A29: Max SE-1/2 SE Tax | B29: 330000
A30: Max Contribution Rate | B30: 0.25
A31: SE Contribution Rate | B31: =B30/(B30+1) -> 0.2
B32: Max | C32: Elective | D32: Catch Up | E32: Catch Up Age | F32: Emp Match Rate
A33: SEP | B33: 70000
A34: SIMPLE | C34: 16500 | D34: 3500 | E34: 50 | F34: 0.03
A35: SE 401(k) | B35: 70000 | C35: 23500 | D35: 7500 | E35: 50
A37: Capital Gain
A38: Capital Gain Loss Limit | B38: 3000 | C38: MFJ
B39: 1500 | C39: MFS

Sheet Tax Calc
A1: Option 1 | H1: Option 2
A2: Total Taxable Income | C2: ='Tax Estimator'!D42 -> 5953908 | H2: Total Taxable Income | J2: ='Tax Estimator'!F42 -> 1498286
A3: LTCG Subject to Tax | C3: =IF(ISNUMBER('Tax Estimator'!D25),MIN('Tax Estimator'!D42,'Tax Estimator'!D25),0) -> 4038150 | H3: LTCG Subject to Tax | J3: =IF(ISNUMBER('Tax Estimator'!F25),MIN('Tax Estimator'!F42,'Tax Estimator'!F25),0) -> 0
A4: ='Tax Estimator'!D3 -> Married Filing Jointly | H4: ='Tax Estimator'!F3 -> Married Filing Jointly
A5: Ordinary Tax | H5: Ordinary Tax
B6: Bottom | C6: Top | E6: Ord in Bracket | F6: Ord Tax | I6: Bottom | J6: Top | L6: Ord in Bracket | M6: Ord Tax
A7: ='Pull Down'!I4 -> 0.1 | B7: =CHOOSE(MATCH($A$4,'Pull Down'!$A$2:$A$5,0),'Pull Down'!J4,'Pull Down'!L4,'Pull Down'!N4,'Pull Down'!P4) -> 0 | C7: =CHOOSE(MATCH($A$4,'Pull Down'!$A$2:$A$5,0),'Pull Down'!K4,'Pull Down'!M4,'Pull Down'!O4,'Pull Down'!Q4) -> 23850 | E7: =MAX(0,MIN(C7,MIN($C$2,$C$2-$C$3))-B7) -> 23850 | F7: =E7*A7 -> 2385 | H7: =A7 -> 0.1 | I7: =CHOOSE(MATCH($H$4,'Pull Down'!$A$2:$A$5,0),'Pull Down'!J4,'Pull Down'!L4,'Pull Down'!N4,'Pull Down'!P4) -> 0 | J7: =CHOOSE(MATCH($H$4,'Pull Down'!$A$2:$A$5,0),'Pull Down'!K4,'Pull Down'!M4,'Pull Down'!O4,'Pull Down'!Q4) -> 23850 | L7: =MAX(0,MIN(J7,MIN($J$2,$J$2-$J$3))-I7) -> 23850 | M7: =L7*H7 -> 2385
A8: ='Pull Down'!I5 -> 0.12 | B8: =CHOOSE(MATCH($A$4,'Pull Down'!$A$2:$A$5,0),'Pull Down'!J5,'Pull Down'!L5,'Pull Down'!N5,'Pull Down'!P5) -> 23850 | C8: =CHOOSE(MATCH($A$4,'Pull Down'!$A$2:$A$5,0),'Pull Down'!K5,'Pull Down'!M5,'Pull Down'!O5,'Pull Down'!Q5) -> 96950 | E8: =MAX(0,MIN(C8,MIN($C$2,$C$2-$C$3))-B8) -> 73100 | F8: =E8*A8 -> 8772 | H8: =A8 -> 0.12 | I8: =CHOOSE(MATCH($H$4,'Pull Down'!$A$2:$A$5,0),'Pull Down'!J5,'Pull Down'!L5,'Pull Down'!N5,'Pull Down'!P5) -> 23850 | J8: =CHOOSE(MATCH($H$4,'Pull Down'!$A$2:$A$5,0),'Pull Down'!K5,'Pull Down'!M5,'Pull Down'!O5,'Pull Down'!Q5) -> 96950 | L8: =MAX(0,MIN(J8,MIN($J$2,$J$2-$J$3))-I8) -> 73100 | M8: =L8*H8 -> 8772
A9: ='Pull Down'!I6 -> 0.22 | B9: =CHOOSE(MATCH($A$4,'Pull Down'!$A$2:$A$5,0),'Pull Down'!J6,'Pull Down'!L6,'Pull Down'!N6,'Pull Down'!P6) -> 96950 | C9: =CHOOSE(MATCH($A$4,'Pull Down'!$A$2:$A$5,0),'Pull Down'!K6,'Pull Down'!M6,'Pull Down'!O6,'Pull Down'!Q6) -> 206700 | E9: =MAX(0,MIN(C9,MIN($C$2,$C$2-$C$3))-B9) -> 109750 | F9: =E9*A9 -> 24145 | H9: =A9 -> 0.22 | I9: =CHOOSE(MATCH($H$4,'Pull Down'!$A$2:$A$5,0),'Pull Down'!J6,'Pull Down'!L6,'Pull Down'!N6,'Pull Down'!P6) -> 96950 | J9: =CHOOSE(MATCH($H$4,'Pull Down'!$A$2:$A$5,0),'Pull Down'!K6,'Pull Down'!M6,'Pull Down'!O6,'Pull Down'!Q6) -> 206700 | L9: =MAX(0,MIN(J9,MIN($J$2,$J$2-$J$3))-I9) -> 109750 | M9: =L9*H9 -> 24145
A10: ='Pull Down'!I7 -> 0.24 | B10: =CHOOSE(MATCH($A$4,'Pull Down'!$A$2:$A$5,0),'Pull Down'!J7,'Pull Down'!L7,'Pull Down'!N7,'Pull Down'!P7) -> 206700 | C10: =CHOOSE(MATCH($A$4,'Pull Down'!$A$2:$A$5,0),'Pull Down'!K7,'Pull Down'!M7,'Pull Down'!O7,'Pull Down'!Q7) -> 394600 | E10: =MAX(0,MIN(C10,MIN($C$2,$C$2-$C$3))-B10) -> 187900 | F10: =E10*A10 -> 45096 | H10: =A10 -> 0.24 | I10: =CHOOSE(MATCH($H$4,'Pull Down'!$A$2:$A$5,0),'Pull Down'!J7,'Pull Down'!L7,'Pull Down'!N7,'Pull Down'!P7) -> 206700 | J10: =CHOOSE(MATCH($H$4,'Pull Down'!$A$2:$A$5,0),'Pull Down'!K7,'Pull Down'!M7,'Pull Down'!O7,'Pull Down'!Q7) -> 394600 | L10: =MAX(0,MIN(J10,MIN($J$2,$J$2-$J$3))-I10) -> 187900 | M10: =L10*H10 -> 45096
A11: ='Pull Down'!I8 -> 0.32 | B11: =CHOOSE(MATCH($A$4,'Pull Down'!$A$2:$A$5,0),'Pull Down'!J8,'Pull Down'!L8,'Pull Down'!N8,'Pull Down'!P8) -> 394600 | C11: =CHOOSE(MATCH($A$4,'Pull Down'!$A$2:$A$5,0),'Pull Down'!K8,'Pull Down'!M8,'Pull Down'!O8,'Pull Down'!Q8) -> 501050 | E11: =MAX(0,MIN(C11,MIN($C$2,$C$2-$C$3))-B11) -> 106450 | F11: =E11*A11 -> 34064 | H11: =A11 -> 0.32 | I11: =CHOOSE(MATCH($H$4,'Pull Down'!$A$2:$A$5,0),'Pull Down'!J8,'Pull Down'!L8,'Pull Down'!N8,'Pull Down'!P8) -> 394600 | J11: =CHOOSE(MATCH($H$4,'Pull Down'!$A$2:$A$5,0),'Pull Down'!K8,'Pull Down'!M8,'Pull Down'!O8,'Pull Down'!Q8) -> 501050 | L11: =MAX(0,MIN(J11,MIN($J$2,$J$2-$J$3))-I11) -> 106450 | M11: =L11*H11 -> 34064
A12: ='Pull Down'!I9 -> 0.35 | B12: =CHOOSE(MATCH($A$4,'Pull Down'!$A$2:$A$5,0),'Pull Down'!J9,'Pull Down'!L9,'Pull Down'!N9,'Pull Down'!P9) -> 501050 | C12: =CHOOSE(MATCH($A$4,'Pull Down'!$A$2:$A$5,0),'Pull Down'!K9,'Pull Down'!M9,'Pull Down'!O9,'Pull Down'!Q9) -> 751600 | E12: =MAX(0,MIN(C12,MIN($C$2,$C$2-$C$3))-B12) -> 250550 | F12: =E12*A12 -> 87692.5 | H12: =A12 -> 0.35 | I12: =CHOOSE(MATCH($H$4,'Pull Down'!$A$2:$A$5,0),'Pull Down'!J9,'Pull Down'!L9,'Pull Down'!N9,'Pull Down'!P9) -> 501050 | J12: =CHOOSE(MATCH($H$4,'Pull Down'!$A$2:$A$5,0),'Pull Down'!K9,'Pull Down'!M9,'Pull Down'!O9,'Pull Down'!Q9) -> 751600 | L12: =MAX(0,MIN(J12,MIN($J$2,$J$2-$J$3))-I12) -> 250550 | M12: =L12*H12 -> 87692.5
A13: ='Pull Down'!I10 -> 0.37 | B13: =CHOOSE(MATCH($A$4,'Pull Down'!$A$2:$A$5,0),'Pull Down'!J10,'Pull Down'!L10,'Pull Down'!N10,'Pull Down'!P10) -> 751600 | C13: 999999999 | E13: =MAX(0,MIN(C13,MIN($C$2,$C$2-$C$3))-B13) -> 1164158 | F13: =E13*A13 -> 430738.46 | H13: =A13 -> 0.37 | I13: =CHOOSE(MATCH($H$4,'Pull Down'!$A$2:$A$5,0),'Pull Down'!J10,'Pull Down'!L10,'Pull Down'!N10,'Pull Down'!P10) -> 751600 | J13: 999999999 | L13: =MAX(0,MIN(J13,MIN($J$2,$J$2-$J$3))-I13) -> 746686 | M13: =L13*H13 -> 276273.82
A14: Total | E14: =SUM(E7:E13) -> 1915758 | F14: =SUM(F7:F13) -> 632892.96 | H14: Total | L14: =SUM(L7:L13) -> 1498286 | M14: =SUM(M7:M13) -> 478428.32
A16: Capital Gain Tax | H16: Capital Gain Tax
B17: Bottom | C17: Top | D17: Ord in Bracket | E17: CG in Bracket | F17: CG Tax | I17: Bottom | J17: Top | K17: Ord in Bracket | L17: CG in Bracket | M17: CG Tax
A18: ='Pull Down'!I15 -> 0 | B18: =CHOOSE(MATCH($A$4,'Pull Down'!$A$2:$A$5,0),'Pull Down'!J15,'Pull Down'!L15,'Pull Down'!N15,'Pull Down'!P15) -> 0 | C18: =CHOOSE(MATCH($A$4,'Pull Down'!$A$2:$A$5,0),'Pull Down'!K15,'Pull Down'!M15,'Pull Down'!O15,'Pull Down'!Q15) -> 96700 | D18: =MAX(0,MIN(C18,$C$2-$C$3)-B18) -> 96700 | E18: =MIN(C18-D18,C3) -> 0 | F18: =A18*E18 -> 0 | H18: =A18 -> 0 | I18: =CHOOSE(MATCH($H$4,'Pull Down'!$A$2:$A$5,0),'Pull Down'!J15,'Pull Down'!L15,'Pull Down'!N15,'Pull Down'!P15) -> 0 | J18: =CHOOSE(MATCH($H$4,'Pull Down'!$A$2:$A$5,0),'Pull Down'!K15,'Pull Down'!M15,'Pull Down'!O15,'Pull Down'!Q15) -> 96700 | K18: =MAX(0,MIN(J18,$C$2-$C$3)-I18) -> 96700 | L18: =MIN(J18-K18,J3) -> 0 | M18: =H18*L18 -> 0
A19: ='Pull Down'!I16 -> 0.15 | B19: =CHOOSE(MATCH($A$4,'Pull Down'!$A$2:$A$5,0),'Pull Down'!J16,'Pull Down'!L16,'Pull Down'!N16,'Pull Down'!P16) -> 96700 | C19: =CHOOSE(MATCH($A$4,'Pull Down'!$A$2:$A$5,0),'Pull Down'!K16,'Pull Down'!M16,'Pull Down'!O16,'Pull Down'!Q16) -> 600050 | D19: =MAX(0,MIN(C19,$C$2-$C$3)-B19) -> 503350 | E19: =MIN(C19-B19-D19,C3-E18) -> 0 | F19: =A19*E19 -> 0 | H19: =A19 -> 0.15 | I19: =CHOOSE(MATCH($H$4,'Pull Down'!$A$2:$A$5,0),'Pull Down'!J16,'Pull Down'!L16,'Pull Down'!N16,'Pull Down'!P16) -> 96700 | J19: =CHOOSE(MATCH($H$4,'Pull Down'!$A$2:$A$5,0),'Pull Down'!K16,'Pull Down'!M16,'Pull Down'!O16,'Pull Down'!Q16) -> 600050 | K19: =MAX(0,MIN(J19,$C$2-$C$3)-I19) -> 503350 | L19: =MIN(J19-I19-K19,J3-L18) -> 0 | M19: =H19*L19 -> 0
A20: ='Pull Down'!I17 -> 0.2 | B20: =CHOOSE(MATCH($A$4,'Pull Down'!$A$2:$A$5,0),'Pull Down'!J17,'Pull Down'!L17,'Pull Down'!N17,'Pull Down'!P17) -> 600050 | C20: 999999999 | D20: =MAX(0,MIN(C20,$C$2-$C$3)-B20) -> 1315708 | E20: =MIN(C20-B20-D20,C3-E19-E18) -> 4038150 | F20: =A20*E20 -> 807630 | H20: =A20 -> 0.2 | I20: =CHOOSE(MATCH($H$4,'Pull Down'!$A$2:$A$5,0),'Pull Down'!J17,'Pull Down'!L17,'Pull Down'!N17,'Pull Down'!P17) -> 600050 | J20: 999999999 | K20: =MAX(0,MIN(J20,$C$2-$C$3)-I20) -> 1315708 | L20: =MIN(J20-I20-K20,J3-L19-L18) -> 0 | M20: =H20*L20 -> 0
A21: Total | E21: =SUM(E18:E20) -> 4038150 | F21: =SUM(F18:F20) -> 807630 | H21: Total | L21: =SUM(L18:L20) -> 0 | M21: =SUM(M18:M20) -> 0

Sheet SE
A1: Self Employment Tax | D1: Option 1 | G1: Option 2
D2: ='Tax Estimator'!D3 -> Married Filing Jointly | G2: ='Tax Estimator'!F3 -> Married Filing Jointly
D3: Taxpayer | E3: Spouse | G3: Taxpayer | H3: Spouse
A4: 1a | B4: Net Farm Income | D4: ='Tax Estimator'!$D$19 -> 390952 | E4: 0 | G4: ='Tax Estimator'!$F$19 -> -42673 | H4: 0
A5: 1b | B5: Excluded CRP | D5: 0 | E5: 0 | G5: 0 | H5: 0
A6: 2 | B6: Schedule C | D6: ='Tax Estimator'!$C$22 -> 0 | E6: ='Tax Estimator'!$C$23 -> 0 | G6: ='Tax Estimator'!$E$22 -> 0 | H6: ='Tax Estimator'!$E$23 -> 0
A7: 3 | D7: =SUM(D4:D6) -> 390952 | E7: =SUM(E4:E6) -> 0 | G7: =SUM(G4:G6) -> -42673 | H7: =SUM(H4:H6) -> 0
A8: 4a | D8: =IF(D7>0,ROUND(D7*'Pull Down'!$B$11,2),D7) -> 361044.17 | E8: =IF(E7>0,ROUND(E7*'Pull Down'!$B$11,2),E7) -> 0 | G8: =IF(G7>0,ROUND(G7*'Pull Down'!$B$11,2),G7) -> -42673 | H8: =IF(H7>0,ROUND(H7*'Pull Down'!$B$11,2),H7) -> 0
A9: 4b | D9: 0 | E9: 0 | G9: 0 | H9: 0
A10: 4c | D10: =IF(D8+D9<400,0,D8+D9) -> 361044.17 | E10: =IF(E8+E9<400,0,E8+E9) -> 0 | G10: =IF(G8+G9<400,0,G8+G9) -> 0 | H10: =IF(H8+H9<400,0,H8+H9) -> 0
A11: 5a | D11: 0 | E11: 0 | G11: 0 | H11: 0
A12: 5b | D12: 0 | E12: 0 | G12: 0 | H12: 0
A13: 6 | B13: Medicare Wages | D13: =D10+D12 -> 361044.17 | E13: =E10+E12 -> 0 | G13: =G10+G12 -> 0 | H13: =H10+H12 -> 0
A14: 7 | B14: Max SS Wages | D14: ='Pull Down'!$B$8 -> 176100 | E14: ='Pull Down'!$B$8 -> 176100 | G14: ='Pull Down'!$B$8 -> 176100 | H14: ='Pull Down'!$B$8 -> 176100
A15: 8a | B15: W2 Box 7 | D15: =IF('Tax Estimator'!$C$10>'Pull Down'!$B$8,0,'Tax Estimator'!$C$10) -> 0 | E15: =IF('Tax Estimator'!$C$11>'Pull Down'!$B$8,0,'Tax Estimator'!$C$11) -> 0 | G15: =IF('Tax Estimator'!$E$10>'Pull Down'!$B$8,0,'Tax Estimator'!$E$10) -> 0 | H15: =IF('Tax Estimator'!$E$11>'Pull Down'!$B$8,0,'Tax Estimator'!$E$11) -> 0
A16: 8b | D16: 0 | E16: 0 | G16: 0 | H16: 0
A17: 8c | D17: 0 | E17: 0 | G17: 0 | H17: 0
A18: 8d | D18: =D15+D16+D17 -> 0 | E18: =E15+E16+E17 -> 0 | G18: =G15+G16+G17 -> 0 | H18: =H15+H16+H17 -> 0
A19: 9 | D19: =MAX(0,D14-D18) -> 176100 | E19: =MAX(0,E14-E18) -> 176100 | G19: =MAX(0,G14-G18) -> 176100 | H19: =MAX(0,H14-H18) -> 176100
A20: 10 | B20: SS Tax | D20: =IF('Tax Estimator'!$C$10>'Pull Down'!$B$8,0,ROUND(MIN(D13,D19)*'Pull Down'!$B$9,2)) -> 21836.4 | E20: =IF('Tax Estimator'!$C$11>'Pull Down'!$B$8,0,ROUND(MIN(E13,E19)*'Pull Down'!$B$9,2)) -> 0 | G20: =IF('Tax Estimator'!$E$10>'Pull Down'!$B$8,0,ROUND(MIN(G13,G19)*'Pull Down'!$B$9,2)) -> 0 | H20: =IF('Tax Estimator'!$E$11>'Pull Down'!$B$8,0,ROUND(MIN(H13,H19)*'Pull Down'!$B$9,2)) -> 0
A21: 11 | B21: Medicare Tax | D21: =ROUND(D13*'Pull Down'!$B$10,2) -> 10470.28 | E21: =ROUND(E13*'Pull Down'!$B$10,2) -> 0 | G21: =ROUND(G13*'Pull Down'!$B$10,2) -> 0 | H21: =ROUND(H13*'Pull Down'!$B$10,2) -> 0
A22: 12 | B22: SE Tax | D22: =D20+D21 -> 32306.68 | E22: =E20+E21 -> 0 | G22: =G20+G21 -> 0 | H22: =H20+H21 -> 0
A23: 13 | B23: Deduction for SE Tax | D23: =ROUND(D20*'Pull Down'!$B$13,2)+ROUND(D21*'Pull Down'!$B$14,2) -> 16153.34 | E23: =ROUND(E20*'Pull Down'!$B$13,2)+ROUND(E21*'Pull Down'!$B$14,2) -> 0 | G23: =ROUND(G20*'Pull Down'!$B$13,2)+ROUND(G21*'Pull Down'!$B$14,2) -> 0 | H23: =ROUND(H20*'Pull Down'!$B$13,2)+ROUND(H21*'Pull Down'!$B$14,2) -> 0

Sheet 8959
A1: Additional Medicare Wages | D1: Option 1 | I1: Option 2
D2: ='Tax Estimator'!D3 -> Married Filing Jointly | I2: ='Tax Estimator'!F3 -> Married Filing Jointly
B3: Farmer Wages | D3: ='Tax Estimator'!C10 -> 0 | I3: ='Tax Estimator'!E10 -> 0
B4: Spouse Wages | D4: ='Tax Estimator'!C11 -> 0 | I4: ='Tax Estimator'!E11 -> 0
B5: Farmer SE Income | D5: =SE!D13 -> 361044.17 | I5: =SE!G13 -> 0
B6: Spouse SE Income | D6: =SE!E13 -> 0 | I6: =SE!H13 -> 0
D9: Farmer | F9: Spouse | I9: Farmer | K9: Spouse
A10: 1 | D10: =D3 -> 0 | F10: =D4 -> 0 | I10: =I3 -> 0 | K10: =I4 -> 0
A11: 2 | D11: 0 | F11: 0 | I11: 0 | K11: 0
A12: 3 | D12: 0 | F12: 0 | I12: 0 | K12: 0
A13: 4 | D13: =SUM(D10:D12) -> 0 | F13: =SUM(F10:F12) -> 0 | I13: =SUM(I10:I12) -> 0 | K13: =SUM(K10:K12) -> 0
A14: 5 | D14: =INDEX('Pull Down'!$B$17:$B$20,MATCH(D2,'Pull Down'!$A$17:$A$20,0)) -> 250000 | F14: =D14 -> 250000 | I14: =INDEX('Pull Down'!$B$17:$B$20,MATCH(I2,'Pull Down'!$A$17:$A$20,0)) -> 250000 | K14: =I14 -> 250000
A15: 6 | E15: =MAX(0,D13-D14) -> 0 | G15: =MAX(0,F13-F14) -> 0 | J15: =MAX(0,I13-I14) -> 0 | L15: =MAX(0,K13-K14) -> 0
A16: 7 | E16: =E15*'Pull Down'!$C$17 -> 0 | G16: =G15*'Pull Down'!$C$17 -> 0 | J16: =J15*'Pull Down'!$C$17 -> 0 | L16: =L15*'Pull Down'!$C$17 -> 0
A17: 8 | D17: =MAX(0,D5) -> 361044.17 | F17: =MAX(0,D6) -> 0 | I17: =MAX(0,I5) -> 0 | K17: =MAX(0,I6) -> 0
A18: 9 | D18: =D14 -> 250000 | F18: =F14 -> 250000 | I18: =I14 -> 250000 | K18: =K14 -> 250000
A19: 10 | D19: =D13 -> 0 | F19: =F13 -> 0 | I19: =I13 -> 0 | K19: =K13 -> 0
A20: 11 | D20: =MAX(0,D18-D19) -> 250000 | F20: =MAX(0,F18-F19) -> 250000 | I20: =MAX(0,I18-I19) -> 250000 | K20: =MAX(0,K18-K19) -> 250000
A21: 12 | E21: =MAX(0,D17-D20) -> 111044.17 | G21: =MAX(0,F17-F20) -> 0 | J21: =MAX(0,I17-I20) -> 0 | L21: =MAX(0,K17-K20) -> 0
A22: 13 | E22: =E21*'Pull Down'!$C$17 -> 999.39753 | G22: =G21*'Pull Down'!$C$17 -> 0 | J22: =J21*'Pull Down'!$C$17 -> 0 | L22: =L21*'Pull Down'!$C$17 -> 0
A23: 14 | D23: 0 | F23: 0 | I23: 0 | K23: 0
A24: 15 | D24: =D14 -> 250000 | F24: =F14 -> 250000 | I24: =I14 -> 250000 | K24: =K14 -> 250000
A25: 16 | E25: =MAX(0,D23-D24) -> 0 | G25: =MAX(0,F23-F24) -> 0 | J25: =MAX(0,I23-I24) -> 0 | L25: =MAX(0,K23-K24) -> 0
A26: 17 | E26: =E25*'Pull Down'!$C$17 -> 0 | G26: =G25*'Pull Down'!$C$17 -> 0 | J26: =J25*'Pull Down'!$C$17 -> 0 | L26: =L25*'Pull Down'!$C$17 -> 0
A27: 18 | E27: =E16+E22+E26 -> 999.39753 | G27: =G16+G22+G26 -> 0 | J27: =J16+J22+J26 -> 0 | L27: =L16+L22+L26 -> 0

Sheet SEP
A1: SE Retirement Contribution | D1: Option 1 | J1: Option 2
D2: SE Income | E2: =MAX(0,SE!D7) -> 390952 | J2: SE Income | K2: =MAX(0,SE!G7) -> 0
D4: Taxpayer | J4: Taxpayer
D5: SEP | E5: SIMPLE <50 | F5: SIMPLE >49 | G5: SE 401(k) <50 | H5: SE 401(k) >49 | J5: SEP | K5: SIMPLE <50 | L5: SIMPLE >49 | M5: SE 401(k) <50 | N5: SE 401(k) >49
A6: 1 | D6: =E2 -> 390952 | E6: =D6 -> 390952 | F6: =D6 -> 390952 | G6: =D6 -> 390952 | H6: =D6 -> 390952 | J6: =K2 -> 0 | K6: =J6 -> 0 | L6: =J6 -> 0 | M6: =J6 -> 0 | N6: =J6 -> 0
A7: 2 | D7: =ROUND(SE!D23,0) -> 16153 | E7: ='Pull Down'!C34 -> 16500 | F7: ='Pull Down'!C34+'Pull Down'!D34 -> 20000 | G7: =D7 -> 16153 | H7: =D7 -> 16153 | J7: =ROUND(SE!G23,0) -> 0 | K7: ='Pull Down'!C34 -> 16500 | L7: ='Pull Down'!C34+'Pull Down'!D34 -> 20000 | M7: =J7 -> 0 | N7: =J7 -> 0
A8: 3 | D8: =D6-D7 -> 374799 | E8: =MIN(E7,E6) -> 16500 | F8: =MIN(F7,F6) -> 20000 | G8: =G6-G7 -> 374799 | H8: =H6-H7 -> 374799 | J8: =J6-J7 -> 0 | K8: =MIN(K7,K6) -> 0 | L8: =MIN(L7,L6) -> 0 | M8: =M6-M7 -> 0 | N8: =N6-N7 -> 0
A9: 4 | D9: ='Pull Down'!B31 -> 0.2 | E9: ='Pull Down'!F34 -> 0.03 | F9: ='Pull Down'!F34 -> 0.03 | G9: ='Pull Down'!B31 -> 0.2 | H9: ='Pull Down'!B31 -> 0.2 | J9: ='Pull Down'!B31 -> 0.2 | K9: ='Pull Down'!F34 -> 0.03 | L9: ='Pull Down'!F34 -> 0.03 | M9: ='Pull Down'!B31 -> 0.2 | N9: ='Pull Down'!B31 -> 0.2
A10: 5 | D10: =ROUND(D8*D9,2) -> 74959.8 | E10: =ROUND(E9*E6,2) -> 11728.56 | F10: =ROUND(F9*F6,2) -> 11728.56 | G10: =ROUND(G8*G9,2) -> 74959.8 | H10: =ROUND(H8*H9,2) -> 74959.8 | J10: =ROUND(J8*J9,2) -> 0 | K10: =ROUND(K9*K6,2) -> 0 | L10: =ROUND(L9*L6,2) -> 0 | M10: =ROUND(M8*M9,2) -> 0 | N10: =ROUND(N8*N9,2) -> 0
A11: 6 | D11: =ROUND('Pull Down'!B29*'Pull Down'!B30,2) -> 82500 | E11: =MIN(E10,E8) -> 11728.56 | F11: =MIN(F10,F8) -> 11728.56 | G11: =ROUND('Pull Down'!B29*'Pull Down'!B30,2) -> 82500 | H11: =ROUND('Pull Down'!B29*'Pull Down'!B30,2) -> 82500 | J11: =ROUND('Pull Down'!B29*'Pull Down'!B30,2) -> 82500 | K11: =MIN(K10,K8) -> 0 | L11: =MIN(L10,L8) -> 0 | M11: =ROUND('Pull Down'!B29*'Pull Down'!B30,2) -> 82500 | N11: =ROUND('Pull Down'!B29*'Pull Down'!B30,2) -> 82500
A12: 7 | D12: =MIN(D10,D11) -> 74959.8 | G12: =MIN(G10,G11) -> 74959.8 | H12: =MIN(H10,H11) -> 74959.8 | J12: =MIN(J10,J11) -> 0 | M12: =MIN(M10,M11) -> 0 | N12: =MIN(N10,N11) -> 0
A13: 8 | D13: ='Pull Down'!B33 -> 70000 | G13: ='Pull Down'!B35 -> 70000 | H13: ='Pull Down'!B35 -> 70000 | J13: ='Pull Down'!B33 -> 70000 | M13: ='Pull Down'!B35 -> 70000 | N13: ='Pull Down'!B35 -> 70000
A14: 9 | G14: ='Pull Down'!C35 -> 23500 | H14: ='Pull Down'!C35 -> 23500 | M14: ='Pull Down'!C35 -> 23500 | N14: ='Pull Down'!C35 -> 23500
A15: 10 | G15: =G13-G14 -> 46500 | H15: =H13-H14 -> 46500 | M15: =M13-M14 -> 46500 | N15: =N13-N14 -> 46500
A16: 11 | G16: =MAX(G8-G14,0) -> 351299 | H16: =MAX(H8-H14,0) -> 351299 | M16: =MAX(M8-M14,0) -> 0 | N16: =MAX(N8-N14,0) -> 0
A17: 12 | G17: =ROUND(G16/2,2) -> 175649.5 | H17: =ROUND(H16/2,2) -> 175649.5 | M17: =ROUND(M16/2,2) -> 0 | N17: =ROUND(N16/2,2) -> 0
A18: 13 | G18: =MIN(G12,G15,G17) -> 46500 | H18: =MIN(H12,H15,H17) -> 46500 | M18: =MIN(M12,M15,M17) -> 0 | N18: =MIN(N12,N15,N17) -> 0
A19: 14 | G19: =MAX(0,G8-G18) -> 328299 | H19: =MAX(0,H8-H18) -> 328299 | M19: =MAX(0,M8-M18) -> 0 | N19: =MAX(0,N8-N18) -> 0
A20: 15 | G20: =MIN(G14,G19) -> 23500 | H20: =MIN(H14,H19) -> 23500 | M20: =MIN(M14,M19) -> 0 | N20: =MIN(N14,N19) -> 0
A21: 16 | G21: =MAX(0,G19-G20) -> 304799 | H21: =MAX(0,H19-H20) -> 304799 | M21: =MAX(0,M19-M20) -> 0 | N21: =MAX(0,N19-N20) -> 0
A22: 17 | G22: 0 | H22: ='Pull Down'!D35 -> 7500 | M22: 0 | N22: ='Pull Down'!D35 -> 7500
A23: 18 | G23: =MIN(G21,G22) -> 0 | H23: =MIN(H21,H22) -> 7500 | M23: =MIN(M21,M22) -> 0 | N23: =MIN(N21,N22) -> 0
A24: 19 | G24: =G18+G20+G23 -> 70000 | H24: =H18+H20+H23 -> 77500 | M24: =M18+M20+M23 -> 0 | N24: =N18+N20+N23 -> 0
A25: 20 | G25: 0 | H25: 0 | M25: 0 | N25: 0
A26: 21 | D26: =ROUND(MIN(D12,D13),0) -> 70000 | E26: =ROUND(E8+E11,0) -> 28229 | F26: =ROUND(F8+F11,0) -> 31729 | G26: =ROUND(G24-G25,0) -> 70000 | H26: =ROUND(H24-H25,0) -> 77500 | J26: =ROUND(MIN(J12,J13),0) -> 0 | K26: =ROUND(K8+K11,0) -> 0 | L26: =ROUND(L8+L11,0) -> 0 | M26: =ROUND(M24-M25,0) -> 0 | N26: =ROUND(N24-N25,0) -> 0

Sheet SE HI
A1: SE Health Insurance Deduction | D1: Option 1 | G1: Option 2
D2: Farmer
A3: 1 | B3: HI | D3: ='Tax Estimator'!C33 -> 0 | G3: =D3 -> 0
A4: 2 | B4: SE Income | D4: =MAX(0,SE!D7)-'Tax Estimator'!D30-'Tax Estimator'!D31 -> 374799 | G4: =MAX(0,SE!G7)-'Tax Estimator'!F30-'Tax Estimator'!F31 -> 0
A5: 3 | B5: SE HI Deduction | D5: =MIN(D3,D4) -> 0 | G5: =MIN(G3,G4) -> 0

Sheet 8995A
A1: Qualified Business Income Deduction | C1: Option 1 | I1: Option 2
A2: 8995-A Part II | D2: Schedule F | E2: Schedule C | F2: Spouse Schedule C | J2: Schedule F | K2: Schedule C | L2: Spouse Schedule C
B3: Specified Service Trade or Business? 1=YES
B4: Income | D4: ='Tax Estimator'!D19+'Tax Estimator'!D24 -> 1975411 | E4: ='Tax Estimator'!C22 -> 0 | F4: ='Tax Estimator'!C23 -> 0 | J4: ='Tax Estimator'!F19+'Tax Estimator'!F24 -> 1541786 | K4: ='Tax Estimator'!E22 -> 0 | L4: ='Tax Estimator'!E23 -> 0
B5: SE Income | D5: ='Tax Estimator'!D19 -> 390952 | E5: =E4 -> 0 | F5: =F4 -> 0 | G5: =SUM(D5:F5) -> 390952 | J5: ='Tax Estimator'!F19 -> -42673 | K5: =K4 -> 0 | L5: =L4 -> 0 | M5: =SUM(J5:L5) -> -42673
B6: Share of SE Deductions | D6: =IFERROR(ROUND(D5/$G$5*('Tax Estimator'!$D$30+'Tax Estimator'!$D$31+'Tax Estimator'!$D$34),0),0) -> 16153 | E6: =IFERROR(ROUND(E5/$G$5*('Tax Estimator'!$D$30+'Tax Estimator'!$D$31+'Tax Estimator'!$D$34),0),0) -> 0 | F6: =IFERROR(ROUND(F5/$G$5*('Tax Estimator'!$D$30+'Tax Estimator'!$D$31+'Tax Estimator'!$D$34),0),0) -> 0 | J6: =IFERROR(ROUND(J5/$M$5*('Tax Estimator'!$F$30+'Tax Estimator'!$F$31+'Tax Estimator'!$F$34),0),0) -> 0 | K6: =IFERROR(ROUND(K5/$M$5*('Tax Estimator'!$F$30+'Tax Estimator'!$F$31+'Tax Estimator'!$F$34),0),0) -> 0 | L6: =IFERROR(ROUND(L5/$M$5*('Tax Estimator'!$F$30+'Tax Estimator'!$F$31+'Tax Estimator'!$F$34),0),0) -> 0
B7: Qualified Business Income | D7: =D4-D6 -> 1959258 | E7: =E4-E6 -> 0 | F7: =F4-F6 -> 0 | J7: =J4-J6 -> 1541786 | K7: =K4-K6 -> 0 | L7: =L4-L6 -> 0
B8: Allocable Wages | D8: ='Tax Estimator'!C17 -> 0 | E8: 0 | F8: 0 | J8: ='Tax Estimator'!E17 -> 0 | K8: 0 | L8: 0
B9: Allocable UBIA | D9: ='Tax Estimator'!C40 -> 0 | E9: 0 | F9: 0 | J9: ='Tax Estimator'!E40 -> 0 | K9: 0 | L9: 0
A11: 2 | B11: Qualified Business Income | D11: =IF(D3=1,D63,D70) -> 1959258 | E11: =IF(E3=1,E63,E70) -> 0 | F11: =IF(F3=1,F63,F70) -> 0 | J11: =IF(J3=1,J63,J70) -> 1541786 | K11: =IF(K3=1,K63,K70) -> 0 | L11: =IF(L3=1,L63,L70) -> 0
A12: 3 | B12: 0.2 * line 2 | D12: =ROUND(D11*0.2,0) -> 391852 | E12: =ROUND(E11*0.2,0) -> 0 | F12: =ROUND(F11*0.2,0) -> 0 | J12: =ROUND(J11*0.2,0) -> 308357 | K12: =ROUND(K11*0.2,0) -> 0 | L12: =ROUND(L11*0.2,0) -> 0
A13: 4 | B13: Allocable wages | D13: =IF(D3=1,D64,D8) -> 0 | E13: =IF(E3=1,E64,E8) -> 0 | F13: =IF(F3=1,F64,F8) -> 0 | J13: =IF(J3=1,J64,J8) -> 0 | K13: =IF(K3=1,K64,K8) -> 0 | L13: =IF(L3=1,L64,L8) -> 0
A14: 5 | B14: 0.5 * line 4 | D14: =ROUND(0.5*D13,0) -> 0 | E14: =ROUND(0.5*E13,0) -> 0 | F14: =ROUND(0.5*F13,0) -> 0 | J14: =ROUND(0.5*J13,0) -> 0 | K14: =ROUND(0.5*K13,0) -> 0 | L14: =ROUND(0.5*L13,0) -> 0
A15: 6 | B15: 0.25 * line 4 | D15: =ROUND(0.25*D13,0) -> 0 | E15: =ROUND(0.25*E13,0) -> 0 | F15: =ROUND(0.25*F13,0) -> 0 | J15: =ROUND(0.25*J13,0) -> 0 | K15: =ROUND(0.25*K13,0) -> 0 | L15: =ROUND(0.25*L13,0) -> 0
A16: 7 | B16: Allocable share UBIA | D16: =IF(D3=1,D65,D9) -> 0 | E16: =IF(E3=1,E65,E9) -> 0 | F16: =IF(F3=1,F65,F9) -> 0 | J16: =IF(J3=1,J65,J9) -> 0 | K16: =IF(K3=1,K65,K9) -> 0 | L16: =IF(L3=1,L65,L9) -> 0
A17: 8 | B17: 0.025 * line 7 | D17: =ROUND(0.025*D16,0) -> 0 | E17: =ROUND(0.025*E16,0) -> 0 | F17: =ROUND(0.025*F16,0) -> 0 | J17: =ROUND(0.025*J16,0) -> 0 | K17: =ROUND(0.025*K16,0) -> 0 | L17: =ROUND(0.025*L16,0) -> 0
A18: 9 | B18: Line 6 + line 8 | D18: =D15+D17 -> 0 | E18: =E15+E17 -> 0 | F18: =F15+F17 -> 0 | J18: =J15+J17 -> 0 | K18: =K15+K17 -> 0 | L18: =L15+L17 -> 0
A19: 10 | B19: Greater of line 5 or line 9 | D19: =MAX(D14,D18) -> 0 | E19: =MAX(E14,E18) -> 0 | F19: =MAX(F14,F18) -> 0 | J19: =MAX(J14,J18) -> 0 | K19: =MAX(K14,K18) -> 0 | L19: =MAX(L14,L18) -> 0
A20: 11 | B20: W2 and qualifed property limitation | D20: =MIN(D12,D19) -> 0 | E20: =MIN(E12,E19) -> 0 | F20: =MIN(F12,F19) -> 0 | J20: =MIN(J12,J19) -> 0 | K20: =MIN(K12,K19) -> 0 | L20: =MIN(L12,L19) -> 0
A21: 12 | B21: Phased-in reduction | D21: =D36 -> 0 | E21: =E36 -> 0 | F21: =F36 -> 0 | J21: =J36 -> 0 | K21: =K36 -> 0 | L21: =L36 -> 0
A22: 13 | B22: QBID before patron reduction | D22: =MAX(D20,D21) -> 0 | E22: =MAX(E20,E21) -> 0 | F22: =MAX(F20,F21) -> 0 | J22: =MAX(J20,J21) -> 0 | K22: =MAX(K20,K21) -> 0 | L22: =MAX(L20,L21) -> 0
A23: 14 | B23: Patron reduction | D23: =D83 -> 0 | E23: =E83 -> 0 | F23: =F83 -> 0 | J23: =J83 -> 0 | K23: =K83 -> 0 | L23: =L83 -> 0
A24: 15 | B24: QBI component | D24: =D22-D23 -> 0 | E24: =E22-E23 -> 0 | F24: =F22-F23 -> 0 | J24: =J22-J23 -> 0 | K24: =K22-K23 -> 0 | L24: =L22-L23 -> 0
A25: 16 | B25: Total QBI Component | C25: =SUM(D24:F24) -> 0 | I25: =SUM(J24:L24) -> 0
A26: 8995-A Part III | D26: Schedule F | E26: Schedule C | F26: Spouse Schedule C | J26: Schedule F | K26: Schedule C | L26: Spouse Schedule C
A27: 17 | B27: Line 3 | D27: =D12 -> 391852 | E27: =E12 -> 0 | F27: =F12 -> 0 | J27: =J12 -> 308357 | K27: =K12 -> 0 | L27: =L12 -> 0
A28: 18 | B28: Line 10 | D28: =D19 -> 0 | E28: =E19 -> 0 | F28: =F19 -> 0 | J28: =J19 -> 0 | K28: =K19 -> 0 | L28: =L19 -> 0
A29: 19 | B29: Subtract line 18 from line 17 | D29: =MAX(0,D27-D28) -> 391852 | E29: =MAX(0,E27-E28) -> 0 | F29: =MAX(0,F27-F28) -> 0 | J29: =MAX(0,J27-J28) -> 308357 | K29: =MAX(0,K27-K28) -> 0 | L29: =MAX(0,L27-L28) -> 0
A30: 20 | B30: Taxable income before QBID | C30: ='Tax Estimator'!D35-'Tax Estimator'!D36-'Tax Estimator'!D37 -> 5965908 | I30: ='Tax Estimator'!F35-'Tax Estimator'!F36-'Tax Estimator'!F37 -> 1510286
A31: 21 | B31: Threshhold | C31: =INDEX('Pull Down'!$B$23:$B$26,MATCH('Tax Estimator'!D3,'Pull Down'!$A$2:$A$5,0)) -> 394600 | I31: =INDEX('Pull Down'!$B$23:$B$26,MATCH('Tax Estimator'!F3,'Pull Down'!$A$2:$A$5,0)) -> 394600
A32: 22 | B32: Subtract line 21 from line 20 | C32: =MAX(0,C30-C31) -> 5571308 | I32: =MAX(0,I30-I31) -> 1115686
A33: 23 | B33: Phase-in range | C33: =INDEX('Pull Down'!$C$23:$C$26,MATCH('Tax Estimator'!D3,'Pull Down'!$A$2:$A$5,0)) -> 100000 | I33: =INDEX('Pull Down'!$C$23:$C$26,MATCH('Tax Estimator'!F3,'Pull Down'!$A$2:$A$5,0)) -> 100000
A34: 24 | B34: Phase-in percentage (divide line 22 by line 13) | C34: =MIN(ROUND(C32/C33,4),1) -> 1 | I34: =MIN(ROUND(I32/I33,4),1) -> 1
A35: 25 | B35: Total phase-in reduction (multiply line 19 by line 24) | D35: =ROUND($C34*D29,0) -> 391852 | E35: =ROUND($C34*E29,0) -> 0 | F35: =ROUND($C34*F29,0) -> 0 | J35: =ROUND($I34*J29,0) -> 308357 | K35: =ROUND($I34*K29,0) -> 0 | L35: =ROUND($I34*L29,0) -> 0
A36: 26 | B36: QBI after phase-in reduction (subtract line 25 from line 17) | D36: =D27-D35 -> 0 | E36: =E27-E35 -> 0 | F36: =F27-F35 -> 0 | J36: =J27-J35 -> 0 | K36: =K27-K35 -> 0 | L36: =L27-L35 -> 0
A37: 8995-A Part IV | D37: Schedule F | E37: Schedule C | F37: Spouse Schedule C | J37: Schedule F | K37: Schedule C | L37: Spouse Schedule C
A38: 27 | B38: Total QBI component | C38: =C25 -> 0 | I38: =I25 -> 0
A39: 28 | B39: Qualified REIT dividends and PTP income | C39: 0 | I39: 0
A40: 29 | B40: Qualified REIT dividends and PTP loss carryforward (enter as negative) | C40: 0 | I40: 0
A41: 30 | B41: Total qualifed REIT dividends and PTP income | C41: =C39+C40 -> 0 | I41: =I39+I40 -> 0
...
